BEGIN:VCALENDAR
VERSION:2.0
PRODID:-//eventon.com NONSGML v1.0//EN
CALSCALE:GREGORIAN
METHOD:PUBLISH
BEGIN:VEVENT
UID:69eb2423afea8
DTSTAMP:20260424T080451Z
DTSTART:20220622
DTEND:20220623
LOCATION:TBC TBC
SUMMARY:EMAC 35 �
DESCRIPTION:EMAC 35 �\nhttps://www.beagles.org.uk/events/emac-35-%ef%bf%b
 d/
URL:https://www.beagles.org.uk/events/emac-35-%ef%bf%bd/
END:VEVENT
END:VCALENDAR